BEGIN:VCALENDAR
VERSION:2.0
PRODID:-//Languages, Literatures &amp; Cultures - ECPv6.15.18//NONSGML v1.0//EN
CALSCALE:GREGORIAN
METHOD:PUBLISH
X-WR-CALNAME:Languages, Literatures &amp; Cultures
X-ORIGINAL-URL:https://llc.uncg.edu
X-WR-CALDESC:Events for Languages, Literatures &amp; Cultures
REFRESH-INTERVAL;VALUE=DURATION:PT1H
X-Robots-Tag:noindex
X-PUBLISHED-TTL:PT1H
BEGIN:VTIMEZONE
TZID:America/New_York
BEGIN:DAYLIGHT
TZOFFSETFROM:-0500
TZOFFSETTO:-0400
TZNAME:EDT
DTSTART:20260308T070000
END:DAYLIGHT
BEGIN:STANDARD
TZOFFSETFROM:-0400
TZOFFSETTO:-0500
TZNAME:EST
DTSTART:20261101T060000
END:STANDARD
BEGIN:DAYLIGHT
TZOFFSETFROM:-0500
TZOFFSETTO:-0400
TZNAME:EDT
DTSTART:20270314T070000
END:DAYLIGHT
BEGIN:STANDARD
TZOFFSETFROM:-0400
TZOFFSETTO:-0500
TZNAME:EST
DTSTART:20271107T060000
END:STANDARD
BEGIN:DAYLIGHT
TZOFFSETFROM:-0500
TZOFFSETTO:-0400
TZNAME:EDT
DTSTART:20280312T070000
END:DAYLIGHT
BEGIN:STANDARD
TZOFFSETFROM:-0400
TZOFFSETTO:-0500
TZNAME:EST
DTSTART:20281105T060000
END:STANDARD
BEGIN:DAYLIGHT
TZOFFSETFROM:-0500
TZOFFSETTO:-0400
TZNAME:EDT
DTSTART:20290311T070000
END:DAYLIGHT
BEGIN:STANDARD
TZOFFSETFROM:-0400
TZOFFSETTO:-0500
TZNAME:EST
DTSTART:20291104T060000
END:STANDARD
END:VTIMEZONE
BEGIN:VEVENT
DTSTART;TZID=America/New_York:20271129T180000
DTEND;TZID=America/New_York:20271129T190000
DTSTAMP:20260419T201220
CREATED:20250909T182748Z
LAST-MODIFIED:20250921T213241Z
UID:10001173-1827511200-1827514800@llc.uncg.edu
SUMMARY:Japanese Club
DESCRIPTION:MHRA 1213
URL:https://llc.uncg.edu/event/japanese-club/2027-11-29/
LOCATION:Greensboro\, NC\, 27412\, United States
ATTACH;FMTTYPE=image/jpeg:https://llc.uncg.edu/wp-content/uploads/2024/10/Japanese-Club-e1757279484942.jpg
END:VEVENT
BEGIN:VEVENT
DTSTART;TZID=America/New_York:20271206T180000
DTEND;TZID=America/New_York:20271206T190000
DTSTAMP:20260419T201220
CREATED:20250909T182748Z
LAST-MODIFIED:20250921T213241Z
UID:10001174-1828116000-1828119600@llc.uncg.edu
SUMMARY:Japanese Club
DESCRIPTION:MHRA 1213
URL:https://llc.uncg.edu/event/japanese-club/2027-12-06/
LOCATION:Greensboro\, NC\, 27412\, United States
ATTACH;FMTTYPE=image/jpeg:https://llc.uncg.edu/wp-content/uploads/2024/10/Japanese-Club-e1757279484942.jpg
END:VEVENT
BEGIN:VEVENT
DTSTART;TZID=America/New_York:20271213T180000
DTEND;TZID=America/New_York:20271213T190000
DTSTAMP:20260419T201220
CREATED:20250909T182748Z
LAST-MODIFIED:20250921T213241Z
UID:10001175-1828720800-1828724400@llc.uncg.edu
SUMMARY:Japanese Club
DESCRIPTION:MHRA 1213
URL:https://llc.uncg.edu/event/japanese-club/2027-12-13/
LOCATION:Greensboro\, NC\, 27412\, United States
ATTACH;FMTTYPE=image/jpeg:https://llc.uncg.edu/wp-content/uploads/2024/10/Japanese-Club-e1757279484942.jpg
END:VEVENT
BEGIN:VEVENT
DTSTART;TZID=America/New_York:20271220T180000
DTEND;TZID=America/New_York:20271220T190000
DTSTAMP:20260419T201220
CREATED:20250909T182748Z
LAST-MODIFIED:20250921T213241Z
UID:10001176-1829325600-1829329200@llc.uncg.edu
SUMMARY:Japanese Club
DESCRIPTION:MHRA 1213
URL:https://llc.uncg.edu/event/japanese-club/2027-12-20/
LOCATION:Greensboro\, NC\, 27412\, United States
ATTACH;FMTTYPE=image/jpeg:https://llc.uncg.edu/wp-content/uploads/2024/10/Japanese-Club-e1757279484942.jpg
END:VEVENT
BEGIN:VEVENT
DTSTART;TZID=America/New_York:20271227T180000
DTEND;TZID=America/New_York:20271227T190000
DTSTAMP:20260419T201220
CREATED:20250909T182748Z
LAST-MODIFIED:20250921T213241Z
UID:10001177-1829930400-1829934000@llc.uncg.edu
SUMMARY:Japanese Club
DESCRIPTION:MHRA 1213
URL:https://llc.uncg.edu/event/japanese-club/2027-12-27/
LOCATION:Greensboro\, NC\, 27412\, United States
ATTACH;FMTTYPE=image/jpeg:https://llc.uncg.edu/wp-content/uploads/2024/10/Japanese-Club-e1757279484942.jpg
END:VEVENT
BEGIN:VEVENT
DTSTART;TZID=America/New_York:20280103T180000
DTEND;TZID=America/New_York:20280103T190000
DTSTAMP:20260419T201220
CREATED:20250909T182748Z
LAST-MODIFIED:20250921T213241Z
UID:10001178-1830535200-1830538800@llc.uncg.edu
SUMMARY:Japanese Club
DESCRIPTION:MHRA 1213
URL:https://llc.uncg.edu/event/japanese-club/2028-01-03/
LOCATION:Greensboro\, NC\, 27412\, United States
ATTACH;FMTTYPE=image/jpeg:https://llc.uncg.edu/wp-content/uploads/2024/10/Japanese-Club-e1757279484942.jpg
END:VEVENT
BEGIN:VEVENT
DTSTART;TZID=America/New_York:20280110T180000
DTEND;TZID=America/New_York:20280110T190000
DTSTAMP:20260419T201220
CREATED:20250909T182748Z
LAST-MODIFIED:20250921T213241Z
UID:10001179-1831140000-1831143600@llc.uncg.edu
SUMMARY:Japanese Club
DESCRIPTION:MHRA 1213
URL:https://llc.uncg.edu/event/japanese-club/2028-01-10/
LOCATION:Greensboro\, NC\, 27412\, United States
ATTACH;FMTTYPE=image/jpeg:https://llc.uncg.edu/wp-content/uploads/2024/10/Japanese-Club-e1757279484942.jpg
END:VEVENT
BEGIN:VEVENT
DTSTART;TZID=America/New_York:20280117T180000
DTEND;TZID=America/New_York:20280117T190000
DTSTAMP:20260419T201220
CREATED:20250909T182748Z
LAST-MODIFIED:20250921T213241Z
UID:10001180-1831744800-1831748400@llc.uncg.edu
SUMMARY:Japanese Club
DESCRIPTION:MHRA 1213
URL:https://llc.uncg.edu/event/japanese-club/2028-01-17/
LOCATION:Greensboro\, NC\, 27412\, United States
ATTACH;FMTTYPE=image/jpeg:https://llc.uncg.edu/wp-content/uploads/2024/10/Japanese-Club-e1757279484942.jpg
END:VEVENT
BEGIN:VEVENT
DTSTART;TZID=America/New_York:20280124T180000
DTEND;TZID=America/New_York:20280124T190000
DTSTAMP:20260419T201220
CREATED:20250909T182748Z
LAST-MODIFIED:20250921T213241Z
UID:10001181-1832349600-1832353200@llc.uncg.edu
SUMMARY:Japanese Club
DESCRIPTION:MHRA 1213
URL:https://llc.uncg.edu/event/japanese-club/2028-01-24/
LOCATION:Greensboro\, NC\, 27412\, United States
ATTACH;FMTTYPE=image/jpeg:https://llc.uncg.edu/wp-content/uploads/2024/10/Japanese-Club-e1757279484942.jpg
END:VEVENT
BEGIN:VEVENT
DTSTART;TZID=America/New_York:20280131T180000
DTEND;TZID=America/New_York:20280131T190000
DTSTAMP:20260419T201220
CREATED:20250909T182748Z
LAST-MODIFIED:20250921T213241Z
UID:10001182-1832954400-1832958000@llc.uncg.edu
SUMMARY:Japanese Club
DESCRIPTION:MHRA 1213
URL:https://llc.uncg.edu/event/japanese-club/2028-01-31/
LOCATION:Greensboro\, NC\, 27412\, United States
ATTACH;FMTTYPE=image/jpeg:https://llc.uncg.edu/wp-content/uploads/2024/10/Japanese-Club-e1757279484942.jpg
END:VEVENT
BEGIN:VEVENT
DTSTART;TZID=America/New_York:20280207T180000
DTEND;TZID=America/New_York:20280207T190000
DTSTAMP:20260419T201220
CREATED:20250909T182748Z
LAST-MODIFIED:20250921T213241Z
UID:10001183-1833559200-1833562800@llc.uncg.edu
SUMMARY:Japanese Club
DESCRIPTION:MHRA 1213
URL:https://llc.uncg.edu/event/japanese-club/2028-02-07/
LOCATION:Greensboro\, NC\, 27412\, United States
ATTACH;FMTTYPE=image/jpeg:https://llc.uncg.edu/wp-content/uploads/2024/10/Japanese-Club-e1757279484942.jpg
END:VEVENT
BEGIN:VEVENT
DTSTART;TZID=America/New_York:20280214T180000
DTEND;TZID=America/New_York:20280214T190000
DTSTAMP:20260419T201220
CREATED:20250909T182748Z
LAST-MODIFIED:20250921T213241Z
UID:10001184-1834164000-1834167600@llc.uncg.edu
SUMMARY:Japanese Club
DESCRIPTION:MHRA 1213
URL:https://llc.uncg.edu/event/japanese-club/2028-02-14/
LOCATION:Greensboro\, NC\, 27412\, United States
ATTACH;FMTTYPE=image/jpeg:https://llc.uncg.edu/wp-content/uploads/2024/10/Japanese-Club-e1757279484942.jpg
END:VEVENT
BEGIN:VEVENT
DTSTART;TZID=America/New_York:20280221T180000
DTEND;TZID=America/New_York:20280221T190000
DTSTAMP:20260419T201220
CREATED:20250909T182748Z
LAST-MODIFIED:20250921T213241Z
UID:10001185-1834768800-1834772400@llc.uncg.edu
SUMMARY:Japanese Club
DESCRIPTION:MHRA 1213
URL:https://llc.uncg.edu/event/japanese-club/2028-02-21/
LOCATION:Greensboro\, NC\, 27412\, United States
ATTACH;FMTTYPE=image/jpeg:https://llc.uncg.edu/wp-content/uploads/2024/10/Japanese-Club-e1757279484942.jpg
END:VEVENT
BEGIN:VEVENT
DTSTART;TZID=America/New_York:20280228T180000
DTEND;TZID=America/New_York:20280228T190000
DTSTAMP:20260419T201220
CREATED:20250909T182748Z
LAST-MODIFIED:20250921T213241Z
UID:10001186-1835373600-1835377200@llc.uncg.edu
SUMMARY:Japanese Club
DESCRIPTION:MHRA 1213
URL:https://llc.uncg.edu/event/japanese-club/2028-02-28/
LOCATION:Greensboro\, NC\, 27412\, United States
ATTACH;FMTTYPE=image/jpeg:https://llc.uncg.edu/wp-content/uploads/2024/10/Japanese-Club-e1757279484942.jpg
END:VEVENT
BEGIN:VEVENT
DTSTART;TZID=America/New_York:20280306T180000
DTEND;TZID=America/New_York:20280306T190000
DTSTAMP:20260419T201220
CREATED:20250909T182748Z
LAST-MODIFIED:20250921T213241Z
UID:10001187-1835978400-1835982000@llc.uncg.edu
SUMMARY:Japanese Club
DESCRIPTION:MHRA 1213
URL:https://llc.uncg.edu/event/japanese-club/2028-03-06/
LOCATION:Greensboro\, NC\, 27412\, United States
ATTACH;FMTTYPE=image/jpeg:https://llc.uncg.edu/wp-content/uploads/2024/10/Japanese-Club-e1757279484942.jpg
END:VEVENT
BEGIN:VEVENT
DTSTART;TZID=America/New_York:20280313T180000
DTEND;TZID=America/New_York:20280313T190000
DTSTAMP:20260419T201220
CREATED:20250909T182748Z
LAST-MODIFIED:20250921T213241Z
UID:10001188-1836583200-1836586800@llc.uncg.edu
SUMMARY:Japanese Club
DESCRIPTION:MHRA 1213
URL:https://llc.uncg.edu/event/japanese-club/2028-03-13/
LOCATION:Greensboro\, NC\, 27412\, United States
ATTACH;FMTTYPE=image/jpeg:https://llc.uncg.edu/wp-content/uploads/2024/10/Japanese-Club-e1757279484942.jpg
END:VEVENT
BEGIN:VEVENT
DTSTART;TZID=America/New_York:20280320T180000
DTEND;TZID=America/New_York:20280320T190000
DTSTAMP:20260419T201220
CREATED:20250909T182748Z
LAST-MODIFIED:20250921T213241Z
UID:10001189-1837188000-1837191600@llc.uncg.edu
SUMMARY:Japanese Club
DESCRIPTION:MHRA 1213
URL:https://llc.uncg.edu/event/japanese-club/2028-03-20/
LOCATION:Greensboro\, NC\, 27412\, United States
ATTACH;FMTTYPE=image/jpeg:https://llc.uncg.edu/wp-content/uploads/2024/10/Japanese-Club-e1757279484942.jpg
END:VEVENT
BEGIN:VEVENT
DTSTART;TZID=America/New_York:20280327T180000
DTEND;TZID=America/New_York:20280327T190000
DTSTAMP:20260419T201220
CREATED:20250909T182748Z
LAST-MODIFIED:20250921T213241Z
UID:10001190-1837792800-1837796400@llc.uncg.edu
SUMMARY:Japanese Club
DESCRIPTION:MHRA 1213
URL:https://llc.uncg.edu/event/japanese-club/2028-03-27/
LOCATION:Greensboro\, NC\, 27412\, United States
ATTACH;FMTTYPE=image/jpeg:https://llc.uncg.edu/wp-content/uploads/2024/10/Japanese-Club-e1757279484942.jpg
END:VEVENT
BEGIN:VEVENT
DTSTART;TZID=America/New_York:20280403T180000
DTEND;TZID=America/New_York:20280403T190000
DTSTAMP:20260419T201220
CREATED:20250909T182748Z
LAST-MODIFIED:20250921T213241Z
UID:10001191-1838397600-1838401200@llc.uncg.edu
SUMMARY:Japanese Club
DESCRIPTION:MHRA 1213
URL:https://llc.uncg.edu/event/japanese-club/2028-04-03/
LOCATION:Greensboro\, NC\, 27412\, United States
ATTACH;FMTTYPE=image/jpeg:https://llc.uncg.edu/wp-content/uploads/2024/10/Japanese-Club-e1757279484942.jpg
END:VEVENT
BEGIN:VEVENT
DTSTART;TZID=America/New_York:20280410T180000
DTEND;TZID=America/New_York:20280410T190000
DTSTAMP:20260419T201220
CREATED:20250909T182748Z
LAST-MODIFIED:20250921T213241Z
UID:10001192-1839002400-1839006000@llc.uncg.edu
SUMMARY:Japanese Club
DESCRIPTION:MHRA 1213
URL:https://llc.uncg.edu/event/japanese-club/2028-04-10/
LOCATION:Greensboro\, NC\, 27412\, United States
ATTACH;FMTTYPE=image/jpeg:https://llc.uncg.edu/wp-content/uploads/2024/10/Japanese-Club-e1757279484942.jpg
END:VEVENT
BEGIN:VEVENT
DTSTART;TZID=America/New_York:20280417T180000
DTEND;TZID=America/New_York:20280417T190000
DTSTAMP:20260419T201220
CREATED:20250909T182748Z
LAST-MODIFIED:20250921T213241Z
UID:10001193-1839607200-1839610800@llc.uncg.edu
SUMMARY:Japanese Club
DESCRIPTION:MHRA 1213
URL:https://llc.uncg.edu/event/japanese-club/2028-04-17/
LOCATION:Greensboro\, NC\, 27412\, United States
ATTACH;FMTTYPE=image/jpeg:https://llc.uncg.edu/wp-content/uploads/2024/10/Japanese-Club-e1757279484942.jpg
END:VEVENT
BEGIN:VEVENT
DTSTART;TZID=America/New_York:20280424T180000
DTEND;TZID=America/New_York:20280424T190000
DTSTAMP:20260419T201220
CREATED:20250909T182748Z
LAST-MODIFIED:20250921T213241Z
UID:10001194-1840212000-1840215600@llc.uncg.edu
SUMMARY:Japanese Club
DESCRIPTION:MHRA 1213
URL:https://llc.uncg.edu/event/japanese-club/2028-04-24/
LOCATION:Greensboro\, NC\, 27412\, United States
ATTACH;FMTTYPE=image/jpeg:https://llc.uncg.edu/wp-content/uploads/2024/10/Japanese-Club-e1757279484942.jpg
END:VEVENT
BEGIN:VEVENT
DTSTART;TZID=America/New_York:20280501T180000
DTEND;TZID=America/New_York:20280501T190000
DTSTAMP:20260419T201220
CREATED:20250909T182748Z
LAST-MODIFIED:20250921T213241Z
UID:10001195-1840816800-1840820400@llc.uncg.edu
SUMMARY:Japanese Club
DESCRIPTION:MHRA 1213
URL:https://llc.uncg.edu/event/japanese-club/2028-05-01/
LOCATION:Greensboro\, NC\, 27412\, United States
ATTACH;FMTTYPE=image/jpeg:https://llc.uncg.edu/wp-content/uploads/2024/10/Japanese-Club-e1757279484942.jpg
END:VEVENT
BEGIN:VEVENT
DTSTART;TZID=America/New_York:20280508T180000
DTEND;TZID=America/New_York:20280508T190000
DTSTAMP:20260419T201220
CREATED:20250909T182748Z
LAST-MODIFIED:20250921T213241Z
UID:10001196-1841421600-1841425200@llc.uncg.edu
SUMMARY:Japanese Club
DESCRIPTION:MHRA 1213
URL:https://llc.uncg.edu/event/japanese-club/2028-05-08/
LOCATION:Greensboro\, NC\, 27412\, United States
ATTACH;FMTTYPE=image/jpeg:https://llc.uncg.edu/wp-content/uploads/2024/10/Japanese-Club-e1757279484942.jpg
END:VEVENT
BEGIN:VEVENT
DTSTART;TZID=America/New_York:20280515T180000
DTEND;TZID=America/New_York:20280515T190000
DTSTAMP:20260419T201220
CREATED:20250909T182748Z
LAST-MODIFIED:20250921T213241Z
UID:10001197-1842026400-1842030000@llc.uncg.edu
SUMMARY:Japanese Club
DESCRIPTION:MHRA 1213
URL:https://llc.uncg.edu/event/japanese-club/2028-05-15/
LOCATION:Greensboro\, NC\, 27412\, United States
ATTACH;FMTTYPE=image/jpeg:https://llc.uncg.edu/wp-content/uploads/2024/10/Japanese-Club-e1757279484942.jpg
END:VEVENT
BEGIN:VEVENT
DTSTART;TZID=America/New_York:20280522T180000
DTEND;TZID=America/New_York:20280522T190000
DTSTAMP:20260419T201220
CREATED:20250909T182748Z
LAST-MODIFIED:20250921T213241Z
UID:10001198-1842631200-1842634800@llc.uncg.edu
SUMMARY:Japanese Club
DESCRIPTION:MHRA 1213
URL:https://llc.uncg.edu/event/japanese-club/2028-05-22/
LOCATION:Greensboro\, NC\, 27412\, United States
ATTACH;FMTTYPE=image/jpeg:https://llc.uncg.edu/wp-content/uploads/2024/10/Japanese-Club-e1757279484942.jpg
END:VEVENT
BEGIN:VEVENT
DTSTART;TZID=America/New_York:20280529T180000
DTEND;TZID=America/New_York:20280529T190000
DTSTAMP:20260419T201220
CREATED:20250909T182748Z
LAST-MODIFIED:20250921T213241Z
UID:10001199-1843236000-1843239600@llc.uncg.edu
SUMMARY:Japanese Club
DESCRIPTION:MHRA 1213
URL:https://llc.uncg.edu/event/japanese-club/2028-05-29/
LOCATION:Greensboro\, NC\, 27412\, United States
ATTACH;FMTTYPE=image/jpeg:https://llc.uncg.edu/wp-content/uploads/2024/10/Japanese-Club-e1757279484942.jpg
END:VEVENT
BEGIN:VEVENT
DTSTART;TZID=America/New_York:20280605T180000
DTEND;TZID=America/New_York:20280605T190000
DTSTAMP:20260419T201220
CREATED:20250909T182748Z
LAST-MODIFIED:20250921T213241Z
UID:10001200-1843840800-1843844400@llc.uncg.edu
SUMMARY:Japanese Club
DESCRIPTION:MHRA 1213
URL:https://llc.uncg.edu/event/japanese-club/2028-06-05/
LOCATION:Greensboro\, NC\, 27412\, United States
ATTACH;FMTTYPE=image/jpeg:https://llc.uncg.edu/wp-content/uploads/2024/10/Japanese-Club-e1757279484942.jpg
END:VEVENT
BEGIN:VEVENT
DTSTART;TZID=America/New_York:20280612T180000
DTEND;TZID=America/New_York:20280612T190000
DTSTAMP:20260419T201220
CREATED:20250909T182748Z
LAST-MODIFIED:20250921T213241Z
UID:10001201-1844445600-1844449200@llc.uncg.edu
SUMMARY:Japanese Club
DESCRIPTION:MHRA 1213
URL:https://llc.uncg.edu/event/japanese-club/2028-06-12/
LOCATION:Greensboro\, NC\, 27412\, United States
ATTACH;FMTTYPE=image/jpeg:https://llc.uncg.edu/wp-content/uploads/2024/10/Japanese-Club-e1757279484942.jpg
END:VEVENT
BEGIN:VEVENT
DTSTART;TZID=America/New_York:20280619T180000
DTEND;TZID=America/New_York:20280619T190000
DTSTAMP:20260419T201220
CREATED:20250909T182748Z
LAST-MODIFIED:20250921T213241Z
UID:10001202-1845050400-1845054000@llc.uncg.edu
SUMMARY:Japanese Club
DESCRIPTION:MHRA 1213
URL:https://llc.uncg.edu/event/japanese-club/2028-06-19/
LOCATION:Greensboro\, NC\, 27412\, United States
ATTACH;FMTTYPE=image/jpeg:https://llc.uncg.edu/wp-content/uploads/2024/10/Japanese-Club-e1757279484942.jpg
END:VEVENT
END:VCALENDAR