BEGIN:VCALENDAR
VERSION:2.0
PRODID:-//Languages, Literatures &amp; Cultures - ECPv6.15.18//NONSGML v1.0//EN
CALSCALE:GREGORIAN
METHOD:PUBLISH
X-ORIGINAL-URL:https://llc.uncg.edu
X-WR-CALDESC:Events for Languages, Literatures &amp; Cultures
REFRESH-INTERVAL;VALUE=DURATION:PT1H
X-Robots-Tag:noindex
X-PUBLISHED-TTL:PT1H
BEGIN:VTIMEZONE
TZID:America/New_York
BEGIN:DAYLIGHT
TZOFFSETFROM:-0500
TZOFFSETTO:-0400
TZNAME:EDT
DTSTART:20260308T070000
END:DAYLIGHT
BEGIN:STANDARD
TZOFFSETFROM:-0400
TZOFFSETTO:-0500
TZNAME:EST
DTSTART:20261101T060000
END:STANDARD
BEGIN:DAYLIGHT
TZOFFSETFROM:-0500
TZOFFSETTO:-0400
TZNAME:EDT
DTSTART:20270314T070000
END:DAYLIGHT
BEGIN:STANDARD
TZOFFSETFROM:-0400
TZOFFSETTO:-0500
TZNAME:EST
DTSTART:20271107T060000
END:STANDARD
BEGIN:DAYLIGHT
TZOFFSETFROM:-0500
TZOFFSETTO:-0400
TZNAME:EDT
DTSTART:20280312T070000
END:DAYLIGHT
BEGIN:STANDARD
TZOFFSETFROM:-0400
TZOFFSETTO:-0500
TZNAME:EST
DTSTART:20281105T060000
END:STANDARD
END:VTIMEZONE
BEGIN:VEVENT
DTSTART;TZID=America/New_York:20270426T180000
DTEND;TZID=America/New_York:20270426T190000
DTSTAMP:20260420T180734
CREATED:20250909T182748Z
LAST-MODIFIED:20250921T213241Z
UID:10001142-1808762400-1808766000@llc.uncg.edu
SUMMARY:Japanese Club
DESCRIPTION:MHRA 1213
URL:https://llc.uncg.edu/event/japanese-club/2027-04-26/
LOCATION:Greensboro\, 27412\, United States
ATTACH;FMTTYPE=image/jpeg:https://llc.uncg.edu/wp-content/uploads/2024/10/Japanese-Club-e1757279484942.jpg
END:VEVENT
BEGIN:VEVENT
DTSTART;TZID=America/New_York:20270428T140000
DTEND;TZID=America/New_York:20270428T150000
DTSTAMP:20260420T180734
CREATED:20250921T212855Z
LAST-MODIFIED:20250921T213049Z
UID:10001421-1808920800-1808924400@llc.uncg.edu
SUMMARY:ASL Weekly Chat
DESCRIPTION:MHRA 3501
URL:https://llc.uncg.edu/event/asl-weekly-chat-2/2027-04-28/
LOCATION:MHRA\, 1111 Spring Garden St\, Greensboro\, NC\, 27412\, United States
ATTACH;FMTTYPE=image/png:https://llc.uncg.edu/wp-content/uploads/2025/09/ASL-weekly-chat-fall-2025-e1757441835846.png
END:VEVENT
BEGIN:VEVENT
DTSTART;TZID=America/New_York:20270428T153000
DTEND;TZID=America/New_York:20270428T163000
DTSTAMP:20260420T180734
CREATED:20250921T213911Z
LAST-MODIFIED:20250921T213913Z
UID:10001682-1808926200-1808929800@llc.uncg.edu
SUMMARY:Café Olé
DESCRIPTION:Weekly Spanish Conversation Practice. MHRA 3501
URL:https://llc.uncg.edu/event/cafe-ole-2/2027-04-28/
LOCATION:MHRA\, 1111 Spring Garden St\, Greensboro\, NC\, 27412\, United States
ATTACH;FMTTYPE=image/jpeg:https://llc.uncg.edu/wp-content/uploads/2025/09/535126499_1351336646998860_5714426723418399288_n-e1757279886280.jpg
END:VEVENT
BEGIN:VEVENT
DTSTART;TZID=America/New_York:20270428T160000
DTEND;TZID=America/New_York:20270428T173000
DTSTAMP:20260420T180734
CREATED:20250921T214351Z
LAST-MODIFIED:20250921T214354Z
UID:10001943-1808928000-1808933400@llc.uncg.edu
SUMMARY:Kaffeestunde
DESCRIPTION:German Weekly Conversation Hour. Meetings take place in front of the EUC (good weather) or inside the EUC food court (bad weather).
URL:https://llc.uncg.edu/event/kaffeestunde-2/2027-04-28/
ATTACH;FMTTYPE=image/png:https://llc.uncg.edu/wp-content/uploads/2024/10/Kaffeestunde-W-4p-530p-e1757279668293.png
END:VEVENT
BEGIN:VEVENT
DTSTART;TZID=America/New_York:20270503T180000
DTEND;TZID=America/New_York:20270503T190000
DTSTAMP:20260420T180734
CREATED:20250909T182748Z
LAST-MODIFIED:20250921T213241Z
UID:10001143-1809367200-1809370800@llc.uncg.edu
SUMMARY:Japanese Club
DESCRIPTION:MHRA 1213
URL:https://llc.uncg.edu/event/japanese-club/2027-05-03/
LOCATION:Greensboro\, 27412\, United States
ATTACH;FMTTYPE=image/jpeg:https://llc.uncg.edu/wp-content/uploads/2024/10/Japanese-Club-e1757279484942.jpg
END:VEVENT
BEGIN:VEVENT
DTSTART;TZID=America/New_York:20270505T140000
DTEND;TZID=America/New_York:20270505T150000
DTSTAMP:20260420T180734
CREATED:20250921T212855Z
LAST-MODIFIED:20250921T213049Z
UID:10001422-1809525600-1809529200@llc.uncg.edu
SUMMARY:ASL Weekly Chat
DESCRIPTION:MHRA 3501
URL:https://llc.uncg.edu/event/asl-weekly-chat-2/2027-05-05/
LOCATION:MHRA\, 1111 Spring Garden St\, Greensboro\, NC\, 27412\, United States
ATTACH;FMTTYPE=image/png:https://llc.uncg.edu/wp-content/uploads/2025/09/ASL-weekly-chat-fall-2025-e1757441835846.png
END:VEVENT
BEGIN:VEVENT
DTSTART;TZID=America/New_York:20270505T153000
DTEND;TZID=America/New_York:20270505T163000
DTSTAMP:20260420T180734
CREATED:20250921T213911Z
LAST-MODIFIED:20250921T213913Z
UID:10001683-1809531000-1809534600@llc.uncg.edu
SUMMARY:Café Olé
DESCRIPTION:Weekly Spanish Conversation Practice. MHRA 3501
URL:https://llc.uncg.edu/event/cafe-ole-2/2027-05-05/
LOCATION:MHRA\, 1111 Spring Garden St\, Greensboro\, NC\, 27412\, United States
ATTACH;FMTTYPE=image/jpeg:https://llc.uncg.edu/wp-content/uploads/2025/09/535126499_1351336646998860_5714426723418399288_n-e1757279886280.jpg
END:VEVENT
BEGIN:VEVENT
DTSTART;TZID=America/New_York:20270505T160000
DTEND;TZID=America/New_York:20270505T173000
DTSTAMP:20260420T180734
CREATED:20250921T214351Z
LAST-MODIFIED:20250921T214354Z
UID:10001944-1809532800-1809538200@llc.uncg.edu
SUMMARY:Kaffeestunde
DESCRIPTION:German Weekly Conversation Hour. Meetings take place in front of the EUC (good weather) or inside the EUC food court (bad weather).
URL:https://llc.uncg.edu/event/kaffeestunde-2/2027-05-05/
ATTACH;FMTTYPE=image/png:https://llc.uncg.edu/wp-content/uploads/2024/10/Kaffeestunde-W-4p-530p-e1757279668293.png
END:VEVENT
BEGIN:VEVENT
DTSTART;TZID=America/New_York:20270510T180000
DTEND;TZID=America/New_York:20270510T190000
DTSTAMP:20260420T180734
CREATED:20250909T182748Z
LAST-MODIFIED:20250921T213241Z
UID:10001144-1809972000-1809975600@llc.uncg.edu
SUMMARY:Japanese Club
DESCRIPTION:MHRA 1213
URL:https://llc.uncg.edu/event/japanese-club/2027-05-10/
LOCATION:Greensboro\, 27412\, United States
ATTACH;FMTTYPE=image/jpeg:https://llc.uncg.edu/wp-content/uploads/2024/10/Japanese-Club-e1757279484942.jpg
END:VEVENT
BEGIN:VEVENT
DTSTART;TZID=America/New_York:20270512T140000
DTEND;TZID=America/New_York:20270512T150000
DTSTAMP:20260420T180734
CREATED:20250921T212855Z
LAST-MODIFIED:20250921T213049Z
UID:10001423-1810130400-1810134000@llc.uncg.edu
SUMMARY:ASL Weekly Chat
DESCRIPTION:MHRA 3501
URL:https://llc.uncg.edu/event/asl-weekly-chat-2/2027-05-12/
LOCATION:MHRA\, 1111 Spring Garden St\, Greensboro\, NC\, 27412\, United States
ATTACH;FMTTYPE=image/png:https://llc.uncg.edu/wp-content/uploads/2025/09/ASL-weekly-chat-fall-2025-e1757441835846.png
END:VEVENT
BEGIN:VEVENT
DTSTART;TZID=America/New_York:20270512T153000
DTEND;TZID=America/New_York:20270512T163000
DTSTAMP:20260420T180734
CREATED:20250921T213911Z
LAST-MODIFIED:20250921T213913Z
UID:10001684-1810135800-1810139400@llc.uncg.edu
SUMMARY:Café Olé
DESCRIPTION:Weekly Spanish Conversation Practice. MHRA 3501
URL:https://llc.uncg.edu/event/cafe-ole-2/2027-05-12/
LOCATION:MHRA\, 1111 Spring Garden St\, Greensboro\, NC\, 27412\, United States
ATTACH;FMTTYPE=image/jpeg:https://llc.uncg.edu/wp-content/uploads/2025/09/535126499_1351336646998860_5714426723418399288_n-e1757279886280.jpg
END:VEVENT
BEGIN:VEVENT
DTSTART;TZID=America/New_York:20270512T160000
DTEND;TZID=America/New_York:20270512T173000
DTSTAMP:20260420T180734
CREATED:20250921T214351Z
LAST-MODIFIED:20250921T214354Z
UID:10001945-1810137600-1810143000@llc.uncg.edu
SUMMARY:Kaffeestunde
DESCRIPTION:German Weekly Conversation Hour. Meetings take place in front of the EUC (good weather) or inside the EUC food court (bad weather).
URL:https://llc.uncg.edu/event/kaffeestunde-2/2027-05-12/
ATTACH;FMTTYPE=image/png:https://llc.uncg.edu/wp-content/uploads/2024/10/Kaffeestunde-W-4p-530p-e1757279668293.png
END:VEVENT
BEGIN:VEVENT
DTSTART;TZID=America/New_York:20270517T180000
DTEND;TZID=America/New_York:20270517T190000
DTSTAMP:20260420T180734
CREATED:20250909T182748Z
LAST-MODIFIED:20250921T213241Z
UID:10001145-1810576800-1810580400@llc.uncg.edu
SUMMARY:Japanese Club
DESCRIPTION:MHRA 1213
URL:https://llc.uncg.edu/event/japanese-club/2027-05-17/
LOCATION:Greensboro\, 27412\, United States
ATTACH;FMTTYPE=image/jpeg:https://llc.uncg.edu/wp-content/uploads/2024/10/Japanese-Club-e1757279484942.jpg
END:VEVENT
BEGIN:VEVENT
DTSTART;TZID=America/New_York:20270519T140000
DTEND;TZID=America/New_York:20270519T150000
DTSTAMP:20260420T180734
CREATED:20250921T212855Z
LAST-MODIFIED:20250921T213049Z
UID:10001424-1810735200-1810738800@llc.uncg.edu
SUMMARY:ASL Weekly Chat
DESCRIPTION:MHRA 3501
URL:https://llc.uncg.edu/event/asl-weekly-chat-2/2027-05-19/
LOCATION:MHRA\, 1111 Spring Garden St\, Greensboro\, NC\, 27412\, United States
ATTACH;FMTTYPE=image/png:https://llc.uncg.edu/wp-content/uploads/2025/09/ASL-weekly-chat-fall-2025-e1757441835846.png
END:VEVENT
BEGIN:VEVENT
DTSTART;TZID=America/New_York:20270519T153000
DTEND;TZID=America/New_York:20270519T163000
DTSTAMP:20260420T180734
CREATED:20250921T213911Z
LAST-MODIFIED:20250921T213913Z
UID:10001685-1810740600-1810744200@llc.uncg.edu
SUMMARY:Café Olé
DESCRIPTION:Weekly Spanish Conversation Practice. MHRA 3501
URL:https://llc.uncg.edu/event/cafe-ole-2/2027-05-19/
LOCATION:MHRA\, 1111 Spring Garden St\, Greensboro\, NC\, 27412\, United States
ATTACH;FMTTYPE=image/jpeg:https://llc.uncg.edu/wp-content/uploads/2025/09/535126499_1351336646998860_5714426723418399288_n-e1757279886280.jpg
END:VEVENT
BEGIN:VEVENT
DTSTART;TZID=America/New_York:20270519T160000
DTEND;TZID=America/New_York:20270519T173000
DTSTAMP:20260420T180734
CREATED:20250921T214351Z
LAST-MODIFIED:20250921T214354Z
UID:10001946-1810742400-1810747800@llc.uncg.edu
SUMMARY:Kaffeestunde
DESCRIPTION:German Weekly Conversation Hour. Meetings take place in front of the EUC (good weather) or inside the EUC food court (bad weather).
URL:https://llc.uncg.edu/event/kaffeestunde-2/2027-05-19/
ATTACH;FMTTYPE=image/png:https://llc.uncg.edu/wp-content/uploads/2024/10/Kaffeestunde-W-4p-530p-e1757279668293.png
END:VEVENT
BEGIN:VEVENT
DTSTART;TZID=America/New_York:20270524T180000
DTEND;TZID=America/New_York:20270524T190000
DTSTAMP:20260420T180734
CREATED:20250909T182748Z
LAST-MODIFIED:20250921T213241Z
UID:10001146-1811181600-1811185200@llc.uncg.edu
SUMMARY:Japanese Club
DESCRIPTION:MHRA 1213
URL:https://llc.uncg.edu/event/japanese-club/2027-05-24/
LOCATION:Greensboro\, 27412\, United States
ATTACH;FMTTYPE=image/jpeg:https://llc.uncg.edu/wp-content/uploads/2024/10/Japanese-Club-e1757279484942.jpg
END:VEVENT
BEGIN:VEVENT
DTSTART;TZID=America/New_York:20270526T140000
DTEND;TZID=America/New_York:20270526T150000
DTSTAMP:20260420T180734
CREATED:20250921T212855Z
LAST-MODIFIED:20250921T213049Z
UID:10001425-1811340000-1811343600@llc.uncg.edu
SUMMARY:ASL Weekly Chat
DESCRIPTION:MHRA 3501
URL:https://llc.uncg.edu/event/asl-weekly-chat-2/2027-05-26/
LOCATION:MHRA\, 1111 Spring Garden St\, Greensboro\, NC\, 27412\, United States
ATTACH;FMTTYPE=image/png:https://llc.uncg.edu/wp-content/uploads/2025/09/ASL-weekly-chat-fall-2025-e1757441835846.png
END:VEVENT
BEGIN:VEVENT
DTSTART;TZID=America/New_York:20270526T153000
DTEND;TZID=America/New_York:20270526T163000
DTSTAMP:20260420T180734
CREATED:20250921T213911Z
LAST-MODIFIED:20250921T213913Z
UID:10001686-1811345400-1811349000@llc.uncg.edu
SUMMARY:Café Olé
DESCRIPTION:Weekly Spanish Conversation Practice. MHRA 3501
URL:https://llc.uncg.edu/event/cafe-ole-2/2027-05-26/
LOCATION:MHRA\, 1111 Spring Garden St\, Greensboro\, NC\, 27412\, United States
ATTACH;FMTTYPE=image/jpeg:https://llc.uncg.edu/wp-content/uploads/2025/09/535126499_1351336646998860_5714426723418399288_n-e1757279886280.jpg
END:VEVENT
BEGIN:VEVENT
DTSTART;TZID=America/New_York:20270526T160000
DTEND;TZID=America/New_York:20270526T173000
DTSTAMP:20260420T180734
CREATED:20250921T214351Z
LAST-MODIFIED:20250921T214354Z
UID:10001947-1811347200-1811352600@llc.uncg.edu
SUMMARY:Kaffeestunde
DESCRIPTION:German Weekly Conversation Hour. Meetings take place in front of the EUC (good weather) or inside the EUC food court (bad weather).
URL:https://llc.uncg.edu/event/kaffeestunde-2/2027-05-26/
ATTACH;FMTTYPE=image/png:https://llc.uncg.edu/wp-content/uploads/2024/10/Kaffeestunde-W-4p-530p-e1757279668293.png
END:VEVENT
BEGIN:VEVENT
DTSTART;TZID=America/New_York:20270531T180000
DTEND;TZID=America/New_York:20270531T190000
DTSTAMP:20260420T180734
CREATED:20250909T182748Z
LAST-MODIFIED:20250921T213241Z
UID:10001147-1811786400-1811790000@llc.uncg.edu
SUMMARY:Japanese Club
DESCRIPTION:MHRA 1213
URL:https://llc.uncg.edu/event/japanese-club/2027-05-31/
LOCATION:Greensboro\, 27412\, United States
ATTACH;FMTTYPE=image/jpeg:https://llc.uncg.edu/wp-content/uploads/2024/10/Japanese-Club-e1757279484942.jpg
END:VEVENT
BEGIN:VEVENT
DTSTART;TZID=America/New_York:20270602T140000
DTEND;TZID=America/New_York:20270602T150000
DTSTAMP:20260420T180734
CREATED:20250921T212855Z
LAST-MODIFIED:20250921T213049Z
UID:10001426-1811944800-1811948400@llc.uncg.edu
SUMMARY:ASL Weekly Chat
DESCRIPTION:MHRA 3501
URL:https://llc.uncg.edu/event/asl-weekly-chat-2/2027-06-02/
LOCATION:MHRA\, 1111 Spring Garden St\, Greensboro\, NC\, 27412\, United States
ATTACH;FMTTYPE=image/png:https://llc.uncg.edu/wp-content/uploads/2025/09/ASL-weekly-chat-fall-2025-e1757441835846.png
END:VEVENT
BEGIN:VEVENT
DTSTART;TZID=America/New_York:20270602T153000
DTEND;TZID=America/New_York:20270602T163000
DTSTAMP:20260420T180734
CREATED:20250921T213911Z
LAST-MODIFIED:20250921T213913Z
UID:10001687-1811950200-1811953800@llc.uncg.edu
SUMMARY:Café Olé
DESCRIPTION:Weekly Spanish Conversation Practice. MHRA 3501
URL:https://llc.uncg.edu/event/cafe-ole-2/2027-06-02/
LOCATION:MHRA\, 1111 Spring Garden St\, Greensboro\, NC\, 27412\, United States
ATTACH;FMTTYPE=image/jpeg:https://llc.uncg.edu/wp-content/uploads/2025/09/535126499_1351336646998860_5714426723418399288_n-e1757279886280.jpg
END:VEVENT
BEGIN:VEVENT
DTSTART;TZID=America/New_York:20270602T160000
DTEND;TZID=America/New_York:20270602T173000
DTSTAMP:20260420T180734
CREATED:20250921T214351Z
LAST-MODIFIED:20250921T214354Z
UID:10001948-1811952000-1811957400@llc.uncg.edu
SUMMARY:Kaffeestunde
DESCRIPTION:German Weekly Conversation Hour. Meetings take place in front of the EUC (good weather) or inside the EUC food court (bad weather).
URL:https://llc.uncg.edu/event/kaffeestunde-2/2027-06-02/
ATTACH;FMTTYPE=image/png:https://llc.uncg.edu/wp-content/uploads/2024/10/Kaffeestunde-W-4p-530p-e1757279668293.png
END:VEVENT
BEGIN:VEVENT
DTSTART;TZID=America/New_York:20270607T180000
DTEND;TZID=America/New_York:20270607T190000
DTSTAMP:20260420T180734
CREATED:20250909T182748Z
LAST-MODIFIED:20250921T213241Z
UID:10001148-1812391200-1812394800@llc.uncg.edu
SUMMARY:Japanese Club
DESCRIPTION:MHRA 1213
URL:https://llc.uncg.edu/event/japanese-club/2027-06-07/
LOCATION:Greensboro\, 27412\, United States
ATTACH;FMTTYPE=image/jpeg:https://llc.uncg.edu/wp-content/uploads/2024/10/Japanese-Club-e1757279484942.jpg
END:VEVENT
BEGIN:VEVENT
DTSTART;TZID=America/New_York:20270609T140000
DTEND;TZID=America/New_York:20270609T150000
DTSTAMP:20260420T180734
CREATED:20250921T212855Z
LAST-MODIFIED:20250921T213049Z
UID:10001427-1812549600-1812553200@llc.uncg.edu
SUMMARY:ASL Weekly Chat
DESCRIPTION:MHRA 3501
URL:https://llc.uncg.edu/event/asl-weekly-chat-2/2027-06-09/
LOCATION:MHRA\, 1111 Spring Garden St\, Greensboro\, NC\, 27412\, United States
ATTACH;FMTTYPE=image/png:https://llc.uncg.edu/wp-content/uploads/2025/09/ASL-weekly-chat-fall-2025-e1757441835846.png
END:VEVENT
BEGIN:VEVENT
DTSTART;TZID=America/New_York:20270609T153000
DTEND;TZID=America/New_York:20270609T163000
DTSTAMP:20260420T180734
CREATED:20250921T213911Z
LAST-MODIFIED:20250921T213913Z
UID:10001688-1812555000-1812558600@llc.uncg.edu
SUMMARY:Café Olé
DESCRIPTION:Weekly Spanish Conversation Practice. MHRA 3501
URL:https://llc.uncg.edu/event/cafe-ole-2/2027-06-09/
LOCATION:MHRA\, 1111 Spring Garden St\, Greensboro\, NC\, 27412\, United States
ATTACH;FMTTYPE=image/jpeg:https://llc.uncg.edu/wp-content/uploads/2025/09/535126499_1351336646998860_5714426723418399288_n-e1757279886280.jpg
END:VEVENT
BEGIN:VEVENT
DTSTART;TZID=America/New_York:20270609T160000
DTEND;TZID=America/New_York:20270609T173000
DTSTAMP:20260420T180734
CREATED:20250921T214351Z
LAST-MODIFIED:20250921T214354Z
UID:10001949-1812556800-1812562200@llc.uncg.edu
SUMMARY:Kaffeestunde
DESCRIPTION:German Weekly Conversation Hour. Meetings take place in front of the EUC (good weather) or inside the EUC food court (bad weather).
URL:https://llc.uncg.edu/event/kaffeestunde-2/2027-06-09/
ATTACH;FMTTYPE=image/png:https://llc.uncg.edu/wp-content/uploads/2024/10/Kaffeestunde-W-4p-530p-e1757279668293.png
END:VEVENT
BEGIN:VEVENT
DTSTART;TZID=America/New_York:20270614T180000
DTEND;TZID=America/New_York:20270614T190000
DTSTAMP:20260420T180734
CREATED:20250909T182748Z
LAST-MODIFIED:20250921T213241Z
UID:10001149-1812996000-1812999600@llc.uncg.edu
SUMMARY:Japanese Club
DESCRIPTION:MHRA 1213
URL:https://llc.uncg.edu/event/japanese-club/2027-06-14/
LOCATION:Greensboro\, 27412\, United States
ATTACH;FMTTYPE=image/jpeg:https://llc.uncg.edu/wp-content/uploads/2024/10/Japanese-Club-e1757279484942.jpg
END:VEVENT
BEGIN:VEVENT
DTSTART;TZID=America/New_York:20270616T140000
DTEND;TZID=America/New_York:20270616T150000
DTSTAMP:20260420T180734
CREATED:20250921T212855Z
LAST-MODIFIED:20250921T213049Z
UID:10001428-1813154400-1813158000@llc.uncg.edu
SUMMARY:ASL Weekly Chat
DESCRIPTION:MHRA 3501
URL:https://llc.uncg.edu/event/asl-weekly-chat-2/2027-06-16/
LOCATION:MHRA\, 1111 Spring Garden St\, Greensboro\, NC\, 27412\, United States
ATTACH;FMTTYPE=image/png:https://llc.uncg.edu/wp-content/uploads/2025/09/ASL-weekly-chat-fall-2025-e1757441835846.png
END:VEVENT
END:VCALENDAR