BEGIN:VCALENDAR
VERSION:2.0
PRODID:-//Languages, Literatures &amp; Cultures - ECPv6.15.18//NONSGML v1.0//EN
CALSCALE:GREGORIAN
METHOD:PUBLISH
X-ORIGINAL-URL:https://llc.uncg.edu
X-WR-CALDESC:Events for Languages, Literatures &amp; Cultures
REFRESH-INTERVAL;VALUE=DURATION:PT1H
X-Robots-Tag:noindex
X-PUBLISHED-TTL:PT1H
BEGIN:VTIMEZONE
TZID:America/New_York
BEGIN:DAYLIGHT
TZOFFSETFROM:-0500
TZOFFSETTO:-0400
TZNAME:EDT
DTSTART:20260308T070000
END:DAYLIGHT
BEGIN:STANDARD
TZOFFSETFROM:-0400
TZOFFSETTO:-0500
TZNAME:EST
DTSTART:20261101T060000
END:STANDARD
BEGIN:DAYLIGHT
TZOFFSETFROM:-0500
TZOFFSETTO:-0400
TZNAME:EDT
DTSTART:20270314T070000
END:DAYLIGHT
BEGIN:STANDARD
TZOFFSETFROM:-0400
TZOFFSETTO:-0500
TZNAME:EST
DTSTART:20271107T060000
END:STANDARD
BEGIN:DAYLIGHT
TZOFFSETFROM:-0500
TZOFFSETTO:-0400
TZNAME:EDT
DTSTART:20280312T070000
END:DAYLIGHT
BEGIN:STANDARD
TZOFFSETFROM:-0400
TZOFFSETTO:-0500
TZNAME:EST
DTSTART:20281105T060000
END:STANDARD
END:VTIMEZONE
BEGIN:VEVENT
DTSTART;TZID=America/New_York:20270816T180000
DTEND;TZID=America/New_York:20270816T190000
DTSTAMP:20260424T130226
CREATED:20250909T182748Z
LAST-MODIFIED:20250921T213241Z
UID:10001158-1818439200-1818442800@llc.uncg.edu
SUMMARY:Japanese Club
DESCRIPTION:MHRA 1213
URL:https://llc.uncg.edu/event/japanese-club/2027-08-16/
LOCATION:Greensboro\, 27412\, United States
ATTACH;FMTTYPE=image/jpeg:https://llc.uncg.edu/wp-content/uploads/2024/10/Japanese-Club-e1757279484942.jpg
END:VEVENT
BEGIN:VEVENT
DTSTART;TZID=America/New_York:20270818T140000
DTEND;TZID=America/New_York:20270818T150000
DTSTAMP:20260424T130226
CREATED:20250921T212855Z
LAST-MODIFIED:20250921T213049Z
UID:10001437-1818597600-1818601200@llc.uncg.edu
SUMMARY:ASL Weekly Chat
DESCRIPTION:MHRA 3501
URL:https://llc.uncg.edu/event/asl-weekly-chat-2/2027-08-18/
LOCATION:MHRA\, 1111 Spring Garden St\, Greensboro\, NC\, 27412\, United States
ATTACH;FMTTYPE=image/png:https://llc.uncg.edu/wp-content/uploads/2025/09/ASL-weekly-chat-fall-2025-e1757441835846.png
END:VEVENT
BEGIN:VEVENT
DTSTART;TZID=America/New_York:20270818T153000
DTEND;TZID=America/New_York:20270818T163000
DTSTAMP:20260424T130226
CREATED:20250921T213911Z
LAST-MODIFIED:20250921T213913Z
UID:10001698-1818603000-1818606600@llc.uncg.edu
SUMMARY:Café Olé
DESCRIPTION:Weekly Spanish Conversation Practice. MHRA 3501
URL:https://llc.uncg.edu/event/cafe-ole-2/2027-08-18/
LOCATION:MHRA\, 1111 Spring Garden St\, Greensboro\, NC\, 27412\, United States
ATTACH;FMTTYPE=image/jpeg:https://llc.uncg.edu/wp-content/uploads/2025/09/535126499_1351336646998860_5714426723418399288_n-e1757279886280.jpg
END:VEVENT
BEGIN:VEVENT
DTSTART;TZID=America/New_York:20270818T160000
DTEND;TZID=America/New_York:20270818T173000
DTSTAMP:20260424T130226
CREATED:20250921T214351Z
LAST-MODIFIED:20250921T214354Z
UID:10001959-1818604800-1818610200@llc.uncg.edu
SUMMARY:Kaffeestunde
DESCRIPTION:German Weekly Conversation Hour. Meetings take place in front of the EUC (good weather) or inside the EUC food court (bad weather).
URL:https://llc.uncg.edu/event/kaffeestunde-2/2027-08-18/
ATTACH;FMTTYPE=image/png:https://llc.uncg.edu/wp-content/uploads/2024/10/Kaffeestunde-W-4p-530p-e1757279668293.png
END:VEVENT
BEGIN:VEVENT
DTSTART;TZID=America/New_York:20270823T180000
DTEND;TZID=America/New_York:20270823T190000
DTSTAMP:20260424T130226
CREATED:20250909T182748Z
LAST-MODIFIED:20250921T213241Z
UID:10001159-1819044000-1819047600@llc.uncg.edu
SUMMARY:Japanese Club
DESCRIPTION:MHRA 1213
URL:https://llc.uncg.edu/event/japanese-club/2027-08-23/
LOCATION:Greensboro\, 27412\, United States
ATTACH;FMTTYPE=image/jpeg:https://llc.uncg.edu/wp-content/uploads/2024/10/Japanese-Club-e1757279484942.jpg
END:VEVENT
BEGIN:VEVENT
DTSTART;TZID=America/New_York:20270825T140000
DTEND;TZID=America/New_York:20270825T150000
DTSTAMP:20260424T130226
CREATED:20250921T212855Z
LAST-MODIFIED:20250921T213049Z
UID:10001438-1819202400-1819206000@llc.uncg.edu
SUMMARY:ASL Weekly Chat
DESCRIPTION:MHRA 3501
URL:https://llc.uncg.edu/event/asl-weekly-chat-2/2027-08-25/
LOCATION:MHRA\, 1111 Spring Garden St\, Greensboro\, NC\, 27412\, United States
ATTACH;FMTTYPE=image/png:https://llc.uncg.edu/wp-content/uploads/2025/09/ASL-weekly-chat-fall-2025-e1757441835846.png
END:VEVENT
BEGIN:VEVENT
DTSTART;TZID=America/New_York:20270825T153000
DTEND;TZID=America/New_York:20270825T163000
DTSTAMP:20260424T130226
CREATED:20250921T213911Z
LAST-MODIFIED:20250921T213913Z
UID:10001699-1819207800-1819211400@llc.uncg.edu
SUMMARY:Café Olé
DESCRIPTION:Weekly Spanish Conversation Practice. MHRA 3501
URL:https://llc.uncg.edu/event/cafe-ole-2/2027-08-25/
LOCATION:MHRA\, 1111 Spring Garden St\, Greensboro\, NC\, 27412\, United States
ATTACH;FMTTYPE=image/jpeg:https://llc.uncg.edu/wp-content/uploads/2025/09/535126499_1351336646998860_5714426723418399288_n-e1757279886280.jpg
END:VEVENT
BEGIN:VEVENT
DTSTART;TZID=America/New_York:20270825T160000
DTEND;TZID=America/New_York:20270825T173000
DTSTAMP:20260424T130226
CREATED:20250921T214351Z
LAST-MODIFIED:20250921T214354Z
UID:10001960-1819209600-1819215000@llc.uncg.edu
SUMMARY:Kaffeestunde
DESCRIPTION:German Weekly Conversation Hour. Meetings take place in front of the EUC (good weather) or inside the EUC food court (bad weather).
URL:https://llc.uncg.edu/event/kaffeestunde-2/2027-08-25/
ATTACH;FMTTYPE=image/png:https://llc.uncg.edu/wp-content/uploads/2024/10/Kaffeestunde-W-4p-530p-e1757279668293.png
END:VEVENT
BEGIN:VEVENT
DTSTART;TZID=America/New_York:20270830T180000
DTEND;TZID=America/New_York:20270830T190000
DTSTAMP:20260424T130226
CREATED:20250909T182748Z
LAST-MODIFIED:20250921T213241Z
UID:10001160-1819648800-1819652400@llc.uncg.edu
SUMMARY:Japanese Club
DESCRIPTION:MHRA 1213
URL:https://llc.uncg.edu/event/japanese-club/2027-08-30/
LOCATION:Greensboro\, 27412\, United States
ATTACH;FMTTYPE=image/jpeg:https://llc.uncg.edu/wp-content/uploads/2024/10/Japanese-Club-e1757279484942.jpg
END:VEVENT
BEGIN:VEVENT
DTSTART;TZID=America/New_York:20270901T140000
DTEND;TZID=America/New_York:20270901T150000
DTSTAMP:20260424T130226
CREATED:20250921T212855Z
LAST-MODIFIED:20250921T213049Z
UID:10001439-1819807200-1819810800@llc.uncg.edu
SUMMARY:ASL Weekly Chat
DESCRIPTION:MHRA 3501
URL:https://llc.uncg.edu/event/asl-weekly-chat-2/2027-09-01/
LOCATION:MHRA\, 1111 Spring Garden St\, Greensboro\, NC\, 27412\, United States
ATTACH;FMTTYPE=image/png:https://llc.uncg.edu/wp-content/uploads/2025/09/ASL-weekly-chat-fall-2025-e1757441835846.png
END:VEVENT
BEGIN:VEVENT
DTSTART;TZID=America/New_York:20270901T153000
DTEND;TZID=America/New_York:20270901T163000
DTSTAMP:20260424T130226
CREATED:20250921T213911Z
LAST-MODIFIED:20250921T213913Z
UID:10001700-1819812600-1819816200@llc.uncg.edu
SUMMARY:Café Olé
DESCRIPTION:Weekly Spanish Conversation Practice. MHRA 3501
URL:https://llc.uncg.edu/event/cafe-ole-2/2027-09-01/
LOCATION:MHRA\, 1111 Spring Garden St\, Greensboro\, NC\, 27412\, United States
ATTACH;FMTTYPE=image/jpeg:https://llc.uncg.edu/wp-content/uploads/2025/09/535126499_1351336646998860_5714426723418399288_n-e1757279886280.jpg
END:VEVENT
BEGIN:VEVENT
DTSTART;TZID=America/New_York:20270901T160000
DTEND;TZID=America/New_York:20270901T173000
DTSTAMP:20260424T130226
CREATED:20250921T214351Z
LAST-MODIFIED:20250921T214354Z
UID:10001961-1819814400-1819819800@llc.uncg.edu
SUMMARY:Kaffeestunde
DESCRIPTION:German Weekly Conversation Hour. Meetings take place in front of the EUC (good weather) or inside the EUC food court (bad weather).
URL:https://llc.uncg.edu/event/kaffeestunde-2/2027-09-01/
ATTACH;FMTTYPE=image/png:https://llc.uncg.edu/wp-content/uploads/2024/10/Kaffeestunde-W-4p-530p-e1757279668293.png
END:VEVENT
BEGIN:VEVENT
DTSTART;TZID=America/New_York:20270906T180000
DTEND;TZID=America/New_York:20270906T190000
DTSTAMP:20260424T130226
CREATED:20250909T182748Z
LAST-MODIFIED:20250921T213241Z
UID:10001161-1820253600-1820257200@llc.uncg.edu
SUMMARY:Japanese Club
DESCRIPTION:MHRA 1213
URL:https://llc.uncg.edu/event/japanese-club/2027-09-06/
LOCATION:Greensboro\, 27412\, United States
ATTACH;FMTTYPE=image/jpeg:https://llc.uncg.edu/wp-content/uploads/2024/10/Japanese-Club-e1757279484942.jpg
END:VEVENT
BEGIN:VEVENT
DTSTART;TZID=America/New_York:20270908T140000
DTEND;TZID=America/New_York:20270908T150000
DTSTAMP:20260424T130226
CREATED:20250921T212855Z
LAST-MODIFIED:20250921T213049Z
UID:10001440-1820412000-1820415600@llc.uncg.edu
SUMMARY:ASL Weekly Chat
DESCRIPTION:MHRA 3501
URL:https://llc.uncg.edu/event/asl-weekly-chat-2/2027-09-08/
LOCATION:MHRA\, 1111 Spring Garden St\, Greensboro\, NC\, 27412\, United States
ATTACH;FMTTYPE=image/png:https://llc.uncg.edu/wp-content/uploads/2025/09/ASL-weekly-chat-fall-2025-e1757441835846.png
END:VEVENT
BEGIN:VEVENT
DTSTART;TZID=America/New_York:20270908T153000
DTEND;TZID=America/New_York:20270908T163000
DTSTAMP:20260424T130226
CREATED:20250921T213911Z
LAST-MODIFIED:20250921T213913Z
UID:10001701-1820417400-1820421000@llc.uncg.edu
SUMMARY:Café Olé
DESCRIPTION:Weekly Spanish Conversation Practice. MHRA 3501
URL:https://llc.uncg.edu/event/cafe-ole-2/2027-09-08/
LOCATION:MHRA\, 1111 Spring Garden St\, Greensboro\, NC\, 27412\, United States
ATTACH;FMTTYPE=image/jpeg:https://llc.uncg.edu/wp-content/uploads/2025/09/535126499_1351336646998860_5714426723418399288_n-e1757279886280.jpg
END:VEVENT
BEGIN:VEVENT
DTSTART;TZID=America/New_York:20270908T160000
DTEND;TZID=America/New_York:20270908T173000
DTSTAMP:20260424T130226
CREATED:20250921T214351Z
LAST-MODIFIED:20250921T214354Z
UID:10001962-1820419200-1820424600@llc.uncg.edu
SUMMARY:Kaffeestunde
DESCRIPTION:German Weekly Conversation Hour. Meetings take place in front of the EUC (good weather) or inside the EUC food court (bad weather).
URL:https://llc.uncg.edu/event/kaffeestunde-2/2027-09-08/
ATTACH;FMTTYPE=image/png:https://llc.uncg.edu/wp-content/uploads/2024/10/Kaffeestunde-W-4p-530p-e1757279668293.png
END:VEVENT
BEGIN:VEVENT
DTSTART;TZID=America/New_York:20270913T180000
DTEND;TZID=America/New_York:20270913T190000
DTSTAMP:20260424T130226
CREATED:20250909T182748Z
LAST-MODIFIED:20250921T213241Z
UID:10001162-1820858400-1820862000@llc.uncg.edu
SUMMARY:Japanese Club
DESCRIPTION:MHRA 1213
URL:https://llc.uncg.edu/event/japanese-club/2027-09-13/
LOCATION:Greensboro\, 27412\, United States
ATTACH;FMTTYPE=image/jpeg:https://llc.uncg.edu/wp-content/uploads/2024/10/Japanese-Club-e1757279484942.jpg
END:VEVENT
BEGIN:VEVENT
DTSTART;TZID=America/New_York:20270915T140000
DTEND;TZID=America/New_York:20270915T150000
DTSTAMP:20260424T130226
CREATED:20250921T212855Z
LAST-MODIFIED:20250921T213049Z
UID:10001441-1821016800-1821020400@llc.uncg.edu
SUMMARY:ASL Weekly Chat
DESCRIPTION:MHRA 3501
URL:https://llc.uncg.edu/event/asl-weekly-chat-2/2027-09-15/
LOCATION:MHRA\, 1111 Spring Garden St\, Greensboro\, NC\, 27412\, United States
ATTACH;FMTTYPE=image/png:https://llc.uncg.edu/wp-content/uploads/2025/09/ASL-weekly-chat-fall-2025-e1757441835846.png
END:VEVENT
BEGIN:VEVENT
DTSTART;TZID=America/New_York:20270915T153000
DTEND;TZID=America/New_York:20270915T163000
DTSTAMP:20260424T130226
CREATED:20250921T213911Z
LAST-MODIFIED:20250921T213913Z
UID:10001702-1821022200-1821025800@llc.uncg.edu
SUMMARY:Café Olé
DESCRIPTION:Weekly Spanish Conversation Practice. MHRA 3501
URL:https://llc.uncg.edu/event/cafe-ole-2/2027-09-15/
LOCATION:MHRA\, 1111 Spring Garden St\, Greensboro\, NC\, 27412\, United States
ATTACH;FMTTYPE=image/jpeg:https://llc.uncg.edu/wp-content/uploads/2025/09/535126499_1351336646998860_5714426723418399288_n-e1757279886280.jpg
END:VEVENT
BEGIN:VEVENT
DTSTART;TZID=America/New_York:20270915T160000
DTEND;TZID=America/New_York:20270915T173000
DTSTAMP:20260424T130226
CREATED:20250921T214351Z
LAST-MODIFIED:20250921T214354Z
UID:10001963-1821024000-1821029400@llc.uncg.edu
SUMMARY:Kaffeestunde
DESCRIPTION:German Weekly Conversation Hour. Meetings take place in front of the EUC (good weather) or inside the EUC food court (bad weather).
URL:https://llc.uncg.edu/event/kaffeestunde-2/2027-09-15/
ATTACH;FMTTYPE=image/png:https://llc.uncg.edu/wp-content/uploads/2024/10/Kaffeestunde-W-4p-530p-e1757279668293.png
END:VEVENT
BEGIN:VEVENT
DTSTART;TZID=America/New_York:20270920T180000
DTEND;TZID=America/New_York:20270920T190000
DTSTAMP:20260424T130226
CREATED:20250909T182748Z
LAST-MODIFIED:20250921T213241Z
UID:10001163-1821463200-1821466800@llc.uncg.edu
SUMMARY:Japanese Club
DESCRIPTION:MHRA 1213
URL:https://llc.uncg.edu/event/japanese-club/2027-09-20/
LOCATION:Greensboro\, 27412\, United States
ATTACH;FMTTYPE=image/jpeg:https://llc.uncg.edu/wp-content/uploads/2024/10/Japanese-Club-e1757279484942.jpg
END:VEVENT
BEGIN:VEVENT
DTSTART;TZID=America/New_York:20270922T140000
DTEND;TZID=America/New_York:20270922T150000
DTSTAMP:20260424T130226
CREATED:20250921T212855Z
LAST-MODIFIED:20250921T213049Z
UID:10001442-1821621600-1821625200@llc.uncg.edu
SUMMARY:ASL Weekly Chat
DESCRIPTION:MHRA 3501
URL:https://llc.uncg.edu/event/asl-weekly-chat-2/2027-09-22/
LOCATION:MHRA\, 1111 Spring Garden St\, Greensboro\, NC\, 27412\, United States
ATTACH;FMTTYPE=image/png:https://llc.uncg.edu/wp-content/uploads/2025/09/ASL-weekly-chat-fall-2025-e1757441835846.png
END:VEVENT
BEGIN:VEVENT
DTSTART;TZID=America/New_York:20270922T153000
DTEND;TZID=America/New_York:20270922T163000
DTSTAMP:20260424T130226
CREATED:20250921T213911Z
LAST-MODIFIED:20250921T213913Z
UID:10001703-1821627000-1821630600@llc.uncg.edu
SUMMARY:Café Olé
DESCRIPTION:Weekly Spanish Conversation Practice. MHRA 3501
URL:https://llc.uncg.edu/event/cafe-ole-2/2027-09-22/
LOCATION:MHRA\, 1111 Spring Garden St\, Greensboro\, NC\, 27412\, United States
ATTACH;FMTTYPE=image/jpeg:https://llc.uncg.edu/wp-content/uploads/2025/09/535126499_1351336646998860_5714426723418399288_n-e1757279886280.jpg
END:VEVENT
BEGIN:VEVENT
DTSTART;TZID=America/New_York:20270922T160000
DTEND;TZID=America/New_York:20270922T173000
DTSTAMP:20260424T130226
CREATED:20250921T214351Z
LAST-MODIFIED:20250921T214354Z
UID:10001964-1821628800-1821634200@llc.uncg.edu
SUMMARY:Kaffeestunde
DESCRIPTION:German Weekly Conversation Hour. Meetings take place in front of the EUC (good weather) or inside the EUC food court (bad weather).
URL:https://llc.uncg.edu/event/kaffeestunde-2/2027-09-22/
ATTACH;FMTTYPE=image/png:https://llc.uncg.edu/wp-content/uploads/2024/10/Kaffeestunde-W-4p-530p-e1757279668293.png
END:VEVENT
BEGIN:VEVENT
DTSTART;TZID=America/New_York:20270927T180000
DTEND;TZID=America/New_York:20270927T190000
DTSTAMP:20260424T130226
CREATED:20250909T182748Z
LAST-MODIFIED:20250921T213241Z
UID:10001164-1822068000-1822071600@llc.uncg.edu
SUMMARY:Japanese Club
DESCRIPTION:MHRA 1213
URL:https://llc.uncg.edu/event/japanese-club/2027-09-27/
LOCATION:Greensboro\, 27412\, United States
ATTACH;FMTTYPE=image/jpeg:https://llc.uncg.edu/wp-content/uploads/2024/10/Japanese-Club-e1757279484942.jpg
END:VEVENT
BEGIN:VEVENT
DTSTART;TZID=America/New_York:20270929T140000
DTEND;TZID=America/New_York:20270929T150000
DTSTAMP:20260424T130226
CREATED:20250921T212855Z
LAST-MODIFIED:20250921T213049Z
UID:10001443-1822226400-1822230000@llc.uncg.edu
SUMMARY:ASL Weekly Chat
DESCRIPTION:MHRA 3501
URL:https://llc.uncg.edu/event/asl-weekly-chat-2/2027-09-29/
LOCATION:MHRA\, 1111 Spring Garden St\, Greensboro\, NC\, 27412\, United States
ATTACH;FMTTYPE=image/png:https://llc.uncg.edu/wp-content/uploads/2025/09/ASL-weekly-chat-fall-2025-e1757441835846.png
END:VEVENT
BEGIN:VEVENT
DTSTART;TZID=America/New_York:20270929T153000
DTEND;TZID=America/New_York:20270929T163000
DTSTAMP:20260424T130226
CREATED:20250921T213911Z
LAST-MODIFIED:20250921T213913Z
UID:10001704-1822231800-1822235400@llc.uncg.edu
SUMMARY:Café Olé
DESCRIPTION:Weekly Spanish Conversation Practice. MHRA 3501
URL:https://llc.uncg.edu/event/cafe-ole-2/2027-09-29/
LOCATION:MHRA\, 1111 Spring Garden St\, Greensboro\, NC\, 27412\, United States
ATTACH;FMTTYPE=image/jpeg:https://llc.uncg.edu/wp-content/uploads/2025/09/535126499_1351336646998860_5714426723418399288_n-e1757279886280.jpg
END:VEVENT
BEGIN:VEVENT
DTSTART;TZID=America/New_York:20270929T160000
DTEND;TZID=America/New_York:20270929T173000
DTSTAMP:20260424T130226
CREATED:20250921T214351Z
LAST-MODIFIED:20250921T214354Z
UID:10001965-1822233600-1822239000@llc.uncg.edu
SUMMARY:Kaffeestunde
DESCRIPTION:German Weekly Conversation Hour. Meetings take place in front of the EUC (good weather) or inside the EUC food court (bad weather).
URL:https://llc.uncg.edu/event/kaffeestunde-2/2027-09-29/
ATTACH;FMTTYPE=image/png:https://llc.uncg.edu/wp-content/uploads/2024/10/Kaffeestunde-W-4p-530p-e1757279668293.png
END:VEVENT
BEGIN:VEVENT
DTSTART;TZID=America/New_York:20271004T180000
DTEND;TZID=America/New_York:20271004T190000
DTSTAMP:20260424T130226
CREATED:20250909T182748Z
LAST-MODIFIED:20250921T213241Z
UID:10001165-1822672800-1822676400@llc.uncg.edu
SUMMARY:Japanese Club
DESCRIPTION:MHRA 1213
URL:https://llc.uncg.edu/event/japanese-club/2027-10-04/
LOCATION:Greensboro\, 27412\, United States
ATTACH;FMTTYPE=image/jpeg:https://llc.uncg.edu/wp-content/uploads/2024/10/Japanese-Club-e1757279484942.jpg
END:VEVENT
BEGIN:VEVENT
DTSTART;TZID=America/New_York:20271006T140000
DTEND;TZID=America/New_York:20271006T150000
DTSTAMP:20260424T130226
CREATED:20250921T212855Z
LAST-MODIFIED:20250921T213049Z
UID:10001444-1822831200-1822834800@llc.uncg.edu
SUMMARY:ASL Weekly Chat
DESCRIPTION:MHRA 3501
URL:https://llc.uncg.edu/event/asl-weekly-chat-2/2027-10-06/
LOCATION:MHRA\, 1111 Spring Garden St\, Greensboro\, NC\, 27412\, United States
ATTACH;FMTTYPE=image/png:https://llc.uncg.edu/wp-content/uploads/2025/09/ASL-weekly-chat-fall-2025-e1757441835846.png
END:VEVENT
END:VCALENDAR