BEGIN:VCALENDAR
VERSION:2.0
PRODID:-//Languages, Literatures &amp; Cultures - ECPv6.15.18//NONSGML v1.0//EN
CALSCALE:GREGORIAN
METHOD:PUBLISH
X-ORIGINAL-URL:https://llc.uncg.edu
X-WR-CALDESC:Events for Languages, Literatures &amp; Cultures
REFRESH-INTERVAL;VALUE=DURATION:PT1H
X-Robots-Tag:noindex
X-PUBLISHED-TTL:PT1H
BEGIN:VTIMEZONE
TZID:America/New_York
BEGIN:DAYLIGHT
TZOFFSETFROM:-0500
TZOFFSETTO:-0400
TZNAME:EDT
DTSTART:20240310T070000
END:DAYLIGHT
BEGIN:STANDARD
TZOFFSETFROM:-0400
TZOFFSETTO:-0500
TZNAME:EST
DTSTART:20241103T060000
END:STANDARD
BEGIN:DAYLIGHT
TZOFFSETFROM:-0500
TZOFFSETTO:-0400
TZNAME:EDT
DTSTART:20250309T070000
END:DAYLIGHT
BEGIN:STANDARD
TZOFFSETFROM:-0400
TZOFFSETTO:-0500
TZNAME:EST
DTSTART:20251102T060000
END:STANDARD
BEGIN:DAYLIGHT
TZOFFSETFROM:-0500
TZOFFSETTO:-0400
TZNAME:EDT
DTSTART:20260308T070000
END:DAYLIGHT
BEGIN:STANDARD
TZOFFSETFROM:-0400
TZOFFSETTO:-0500
TZNAME:EST
DTSTART:20261101T060000
END:STANDARD
END:VTIMEZONE
BEGIN:VEVENT
DTSTART;TZID=America/New_York:20251006T160000
DTEND;TZID=America/New_York:20251006T170000
DTSTAMP:20260424T175001
CREATED:20250903T165428Z
LAST-MODIFIED:20250908T180236Z
UID:10000009-1759766400-1759770000@llc.uncg.edu
SUMMARY:French Club Meeting: Conversation Hour
DESCRIPTION:Join us in MHRA 22011 for Conversation Hour with the UNCG French Club! \n\n\n\nAll Club meetings will take place in MHRA 2211 from 4 p.m. to 5 p.m. unless otherwise stated. \n\n\n\nFuture dates:\n\n\n\nOctober 20: French Dance Night \n\n\n\nNovember 3: Conversation Hour \n\n\n\nNovember 17: Winter Movie Night \n\n\n\nDecember 1: Conversation Hour
URL:https://llc.uncg.edu/event/french-club-meeting-conversation-hour-2/
LOCATION:MHRA Building\, 1111 Spring Garden St\, Greensboro\, NC\, 27412\, United States
CATEGORIES:French
ATTACH;FMTTYPE=image/png:https://llc.uncg.edu/wp-content/uploads/2025/09/french-club.png
END:VEVENT
BEGIN:VEVENT
DTSTART;TZID=America/New_York:20251006T180000
DTEND;TZID=America/New_York:20251006T190000
DTSTAMP:20260424T175001
CREATED:20250917T203451Z
LAST-MODIFIED:20250917T203455Z
UID:10001331-1759773600-1759777200@llc.uncg.edu
SUMMARY:J-Club Karaoke Night
DESCRIPTION:Let’s all sing and have fun with friends together! There will also be Japanese curry\, mochi\, snacks\, and drinks as well!
URL:https://llc.uncg.edu/event/j-club-karaoke-night/
LOCATION:MHRA Building\, 1111 Spring Garden St\, Greensboro\, NC\, 27412\, United States
ATTACH;FMTTYPE=image/png:https://llc.uncg.edu/wp-content/uploads/2025/09/Karaoke-e1758141132565.png
END:VEVENT
END:VCALENDAR